BEGIN:VCALENDAR
VERSION:2.0
PRODID:-//Contratero//ES
CALSCALE:GREGORIAN
METHOD:PUBLISH
BEGIN:VEVENT
UID:135/25 AYTOPARLA@contratero.es
DTSTAMP:20260420T071034Z
DTSTART:20260313T235959
DTEND:20260314T005959
SUMMARY:Cierre: Suministro de una Plataforma CLOUD GOOGLE WORKSPAC
DESCRIPTION:Suministro de una Plataforma CLOUD GOOGLE WORKSPACE en modo de pago por uso\, mantenimiento\, hosting\, soporte técnico\, consultoría y formación\, implantada en el Ayuntamiento de Parla\, por procedimiento...\\n\\nOrganismo: Junta de Gobierno del Ayuntamiento de Parla\\n\\nVer en Contratero: https://contratero.es/contracts/135/25 AYTOPARLA
URL:https://contratero.es/contracts/135/25 AYTOPARLA
STATUS:CONFIRMED
BEGIN:VALARM
TRIGGER:-P1D
ACTION:DISPLAY
DESCRIPTION:Recordatorio: Suministro de una Plataforma C
END:VALARM
END:VEVENT
END:VCALENDAR